BEGIN:VCALENDAR
PRODID:-//kirchenweb.ch gmbh//veranstaltungsausgabe v2.0//DE
VERSION:2.0
METHOD:PUBLISH
BEGIN:VEVENT
DTSTART:20260616T173000Z
DTEND:20260616T190000Z
LOCATION:Chilezentrum Schwyz\, Schmiedgasse 34\, 6430 Schwyz
TRANSP:OPAQUE
SEQUENCE:0
UID:24702-veranstaltung@ref-brunnen-schwyz.ch
DTSTAMP:20260319T165528Z
DESCRIPTION:Filmvortragsreihe mit Sigrun Macheleidt und Sepp Buholzer\,
  aus Brunnen\n\n«Kamtschatka - Vulkane und Bären im äussersten Osten
  Sibiriens»\n\n\nKontakt: Markus Zogg\n\nWeitere Infos:
  https://www.ref-brunnen-schwyz.ch/veranstaltung/24702
SUMMARY:Filmvortragsreihe «Kommt mit uns in die weite Welt!»
PRIORITY:5
X-MICROSOFT-CDO-IMPORTANCE:1
CLASS:PUBLIC
END:VEVENT
END:VCALENDAR
