BEGIN:VCALENDAR
PRODID:-//kirchenweb.ch gmbh//veranstaltungsausgabe v2.0//DE
VERSION:2.0
METHOD:PUBLISH
BEGIN:VEVENT
DTSTART:20260618T140000Z
DTEND:20260618T153000Z
LOCATION:Spital Schwyz\, Waldeggstrasse 10\, 6430 Schwyz\, Spital
TRANSP:OPAQUE
SEQUENCE:0
UID:24629-veranstaltung@ref-brunnen-schwyz.ch
DTSTAMP:20260206T122905Z
DESCRIPTION:Es ist gut\, nicht alleine zu sein\, wenn ein geliebter Mensch
  gestorben ist. Viele Menschen fühlen sich durch die Trauer belastet. Oft
  fehlt jedoch im Alltag Zeit und Raum\, um darüber zu sprechen. Kommen
  Sie auf eine Tasse Tee oder Kaffee vorbei\, tauschen Sie sich mit anderen
  Betroffenen aus und reden Sie mit einer Fachperson. Die Teilnahme zu
  diesem Angebot ist kostenlos.\n\nKontakt: Palliative Care
  Station-Aufenthaltsraum der Station A7. Anmeldung bis Mittw. 12 Uhr
  erwünscht 041 818 41 11\n\nWeitere Infos:
  https://www.ref-brunnen-schwyz.ch/veranstaltung/24629
SUMMARY:Trauer-Café
PRIORITY:5
X-MICROSOFT-CDO-IMPORTANCE:1
CLASS:PUBLIC
END:VEVENT
END:VCALENDAR
