BEGIN:VCALENDAR
PRODID:-//kirchenweb.ch gmbh//veranstaltungsausgabe v2.0//DE
VERSION:2.0
METHOD:PUBLISH
BEGIN:VEVENT
DTSTART:20261224T150000Z
DTEND:20261224T160000Z
LOCATION:Ref. Kirche Brunnen\, Alte Kantonsstrasse 8\, 6440 Brunnen
TRANSP:OPAQUE
SEQUENCE:0
UID:24582-veranstaltung@ref-brunnen-schwyz.ch
DTSTAMP:20260127T072528Z
DESCRIPTION:Kontakt: Alexander Lücke\, Musik: Livia Schmid und Rahel
  Bünter\n\nWeitere Infos:
  https://www.ref-brunnen-schwyz.ch/veranstaltung/24582
SUMMARY:Heiligabend Familiengottesdienst - Musik: Livia Schmid und Rahel
  Bünter
PRIORITY:5
X-MICROSOFT-CDO-IMPORTANCE:1
CLASS:PUBLIC
END:VEVENT
END:VCALENDAR
