BEGIN:VCALENDAR
PRODID:-//kirchenweb.ch gmbh//veranstaltungsausgabe v2.0//DE
VERSION:2.0
METHOD:PUBLISH
BEGIN:VEVENT
DTSTART:20260602T173000Z
DTEND:20260602T183000Z
LOCATION:Ref. Kirche Brunnen\, Alte Kantonsstrasse 8\, 6440 Brunnen
TRANSP:OPAQUE
SEQUENCE:0
UID:24502-veranstaltung@ref-brunnen-schwyz.ch
DTSTAMP:20260206T161058Z
DESCRIPTION:Die ökumenischen Taizégebete finden alle 14 Tage im Wechsel
  zwischen Brunnen und der Pfarrkirche (oder Michaelskapelle) Schwyz statt.
 \n\nKontakt: Werner Spielmann 041 832 18 12\, 079 139 81 95  \n\nWeitere
  Infos: https://www.ref-brunnen-schwyz.ch/veranstaltung/24502
SUMMARY:Ökumenisches Taizé-Abendgebet "Stimme und Stille"
PRIORITY:5
X-MICROSOFT-CDO-IMPORTANCE:1
CLASS:PUBLIC
END:VEVENT
END:VCALENDAR
