BEGIN:VCALENDAR
PRODID:-//kirchenweb.ch gmbh//veranstaltungsausgabe v2.0//DE
VERSION:2.0
METHOD:PUBLISH
BEGIN:VEVENT
DTSTART:20260520T123000Z
DTEND:20260520T150000Z
LOCATION:Chilezentrum Schwyz\, Schmiedgasse 34\, 6430 Schwyz
TRANSP:OPAQUE
SEQUENCE:0
UID:24357-veranstaltung@ref-brunnen-schwyz.ch
DTSTAMP:20260115T121817Z
DESCRIPTION:Diavortrag "Biber und Fledermäuse"\nMit Wolf-Dieter
  Burkhard\, der seit über 50 Jahren als Tier- und Naturschützer
  unterwegs ist.\n\nKontakt: Markus Zogg\n\nWeitere Infos:
  https://www.ref-brunnen-schwyz.ch/veranstaltung/24357
SUMMARY:60plus Nachmittag
PRIORITY:5
X-MICROSOFT-CDO-IMPORTANCE:1
CLASS:PUBLIC
END:VEVENT
END:VCALENDAR
