BEGIN:VCALENDAR
PRODID:-//kirchenweb.ch gmbh//veranstaltungsausgabe v2.0//DE
VERSION:2.0
METHOD:PUBLISH
BEGIN:VEVENT
DTSTART:20260422T123000Z
DTEND:20260422T150000Z
LOCATION:Ref. Kirchgemeindehaus Brunnen\, Alte Kantonsstrasse 8a\, 6440
  Brunnen
TRANSP:OPAQUE
SEQUENCE:0
UID:24356-veranstaltung@ref-brunnen-schwyz.ch
DTSTAMP:20260417T175124Z
DESCRIPTION:Wir tauchen ein in die Welt unseres Waldes.\nMit Paul
  Betschart von der OAK (Oberallmeindkorporation Schwyz)\n\nKontakt: Markus
  Zogg\n\nWeitere Infos:
  https://www.ref-brunnen-schwyz.ch/veranstaltung/24356
SUMMARY:60plus Nachmittag
PRIORITY:5
X-MICROSOFT-CDO-IMPORTANCE:1
CLASS:PUBLIC
END:VEVENT
END:VCALENDAR
