BEGIN:VCALENDAR
PRODID:-//kirchenweb.ch gmbh//veranstaltungsausgabe v2.0//DE
VERSION:2.0
METHOD:PUBLISH
BEGIN:VEVENT
DTSTART:20261122T090000Z
DTEND:20261122T100000Z
LOCATION:Chilezentrum Schwyz\, Schmiedgasse 34\, 6430 Schwyz
TRANSP:OPAQUE
SEQUENCE:0
UID:24258-veranstaltung@ref-brunnen-schwyz.ch
DTSTAMP:20260325T103922Z
DESCRIPTION:Wir gedenken den Verstorbenen und zünden eine Kerze an.\n
 \nKontakt: Alexander Lücke\n\nWeitere Infos:
  https://www.ref-brunnen-schwyz.ch/veranstaltung/24258
SUMMARY:Ewigkeitssonntag - Gottesdienst mit Seniorenchor Innerschwyz
PRIORITY:5
X-MICROSOFT-CDO-IMPORTANCE:1
CLASS:PUBLIC
END:VEVENT
END:VCALENDAR
