BEGIN:VCALENDAR
PRODID:-//kirchenweb.ch gmbh//veranstaltungsausgabe v2.0//DE
VERSION:2.0
METHOD:PUBLISH
BEGIN:VEVENT
DTSTART:20260712T080000Z
DTEND:20260712T090000Z
LOCATION:Ref. Kirche Brunnen\, Alte Kantonsstrasse 8\, 6440 Brunnen
TRANSP:OPAQUE
SEQUENCE:0
UID:24246-veranstaltung@ref-brunnen-schwyz.ch
DTSTAMP:20260309T093939Z
DESCRIPTION:Wir erhalten Besuch von der ref. Gemeinde Küssnacht.\n
 \nKontakt: Alexander Lücke \n\nWeitere Infos:
  https://www.ref-brunnen-schwyz.ch/veranstaltung/24246
SUMMARY:Gottesdienst - Kirche unterwegs - mit anschliessender
  musikalischer Matinee des Lukas Albrecht
PRIORITY:5
X-MICROSOFT-CDO-IMPORTANCE:1
CLASS:PUBLIC
END:VEVENT
END:VCALENDAR
