BEGIN:VCALENDAR
PRODID:-//kirchenweb.ch gmbh//veranstaltungsausgabe v2.0//DE
VERSION:2.0
METHOD:PUBLISH
BEGIN:VEVENT
DTSTART:20260607T080000Z
DTEND:20260607T090000Z
LOCATION:Ref. Kirche Schwyz\, Schmiedgasse 34\, 6430 Schwyz
TRANSP:OPAQUE
SEQUENCE:0
UID:24225-veranstaltung@ref-brunnen-schwyz.ch
DTSTAMP:20260325T191757Z
DESCRIPTION:Kontakt: Alexander Lücke\n\nWeitere Infos:
  https://www.ref-brunnen-schwyz.ch/veranstaltung/24225
SUMMARY:Gottesdienst mit Taufe
PRIORITY:5
X-MICROSOFT-CDO-IMPORTANCE:1
CLASS:PUBLIC
END:VEVENT
END:VCALENDAR
