BEGIN:VCALENDAR
PRODID:-//kirchenweb.ch gmbh//veranstaltungsausgabe v2.0//DE
VERSION:2.0
METHOD:PUBLISH
BEGIN:VEVENT
DTSTART:20260611T080000Z
DTEND:20260611T090000Z
LOCATION:Kapelle Altersheim Brunnen\, Heideweg 10\, 6440 Brunnen\,
  Heideweg 10
TRANSP:OPAQUE
SEQUENCE:0
UID:24193-veranstaltung@ref-brunnen-schwyz.ch
DTSTAMP:20251023T080804Z
DESCRIPTION:Wir kommen zusammen\, um Gemeinschaft miteinander und mit Gott
  zu haben.\nKontakt: Sozialdiakon Markus Zogg\, 076 452 52 21\n\nKontakt:
  Markus Zogg\n\nWeitere Infos:
  https://www.ref-brunnen-schwyz.ch/veranstaltung/24193
SUMMARY:Andacht im Alterszentrum Heideweg
PRIORITY:5
X-MICROSOFT-CDO-IMPORTANCE:1
CLASS:PUBLIC
END:VEVENT
END:VCALENDAR
