BEGIN:VCALENDAR
PRODID:-//kirchenweb.ch gmbh//veranstaltungsausgabe v2.0//DE
VERSION:2.0
METHOD:PUBLISH
BEGIN:VEVENT
DTSTART:20260430T150000Z
DTEND:20260430T163000Z
LOCATION:Chilezentrum Schwyz\, Schmiedgasse 34\, 6430 Schwyz
TRANSP:OPAQUE
SEQUENCE:0
UID:24141-veranstaltung@ref-brunnen-schwyz.ch
DTSTAMP:20250926T015904Z
DESCRIPTION:Kontakt: Pfarrer Alexander Lücke und Katechetin Susanne
  Mühlebach\n\nWeitere Infos:
  https://www.ref-brunnen-schwyz.ch/veranstaltung/24141
SUMMARY:Konfirmanden-Unterricht
PRIORITY:5
X-MICROSOFT-CDO-IMPORTANCE:1
CLASS:PUBLIC
END:VEVENT
END:VCALENDAR
